BEGIN:VCALENDAR
VERSION:2.0
PRODID:-//wp-events-plugin.com//7.2.3.1//EN
TZID:Europe/London
X-WR-TIMEZONE:Europe/London
BEGIN:VEVENT
UID:280@vintagehornby.net
DTSTART;TZID=Europe/London:20221214T170000
DTEND;TZID=Europe/London:20221214T210000
DTSTAMP:20221205T094330Z
URL:https://vintagehornby.net/events/mortimer-evening-running-event-2022-1
 2-14/
SUMMARY:Mortimer Evening Running Event
DESCRIPTION:
LOCATION:St John’s Hall\, Mortimer\, 22 West End Road\, Mortimer\, Berksh
 ire\, RG7 3TF\, United Kingdom
GEO:51.37598;-1.063904
X-APPLE-STRUCTURED-LOCATION;VALUE=URI;X-ADDRESS=22 West End Road\, Mortimer
 \, Berkshire\, RG7 3TF\, United Kingdom;X-APPLE-RADIUS=100;X-TITLE=St John
 ’s Hall\, Mortimer:geo:51.37598,-1.063904
END:VEVENT
BEGIN:VTIMEZONE
TZID:Europe/London
X-LIC-LOCATION:Europe/London
BEGIN:STANDARD
DTSTART:20221030T010000
TZOFFSETFROM:+0100
TZOFFSETTO:+0000
TZNAME:GMT
END:STANDARD
END:VTIMEZONE
END:VCALENDAR